BEGIN:VCALENDAR
VERSION:2.0
PRODID:-//Great Lakes Mobile Cigars - ECPv6.15.17.1//NONSGML v1.0//EN
CALSCALE:GREGORIAN
METHOD:PUBLISH
X-WR-CALNAME:Great Lakes Mobile Cigars
X-ORIGINAL-URL:https://greatlakesmobilecigars.com
X-WR-CALDESC:Events for Great Lakes Mobile Cigars
REFRESH-INTERVAL;VALUE=DURATION:PT1H
X-Robots-Tag:noindex
X-PUBLISHED-TTL:PT1H
BEGIN:VTIMEZONE
TZID:America/Detroit
BEGIN:DAYLIGHT
TZOFFSETFROM:-0500
TZOFFSETTO:-0400
TZNAME:EDT
DTSTART:20250309T070000
END:DAYLIGHT
BEGIN:STANDARD
TZOFFSETFROM:-0400
TZOFFSETTO:-0500
TZNAME:EST
DTSTART:20251102T060000
END:STANDARD
BEGIN:DAYLIGHT
TZOFFSETFROM:-0500
TZOFFSETTO:-0400
TZNAME:EDT
DTSTART:20260308T070000
END:DAYLIGHT
BEGIN:STANDARD
TZOFFSETFROM:-0400
TZOFFSETTO:-0500
TZNAME:EST
DTSTART:20261101T060000
END:STANDARD
BEGIN:DAYLIGHT
TZOFFSETFROM:-0500
TZOFFSETTO:-0400
TZNAME:EDT
DTSTART:20270314T070000
END:DAYLIGHT
BEGIN:STANDARD
TZOFFSETFROM:-0400
TZOFFSETTO:-0500
TZNAME:EST
DTSTART:20271107T060000
END:STANDARD
END:VTIMEZONE
BEGIN:VEVENT
DTSTART;TZID=America/Detroit:20260725T150000
DTEND;TZID=America/Detroit:20260725T200000
DTSTAMP:20260419T232133
CREATED:20260205T201759Z
LAST-MODIFIED:20260205T203252Z
UID:2005-1784991600-1785009600@greatlakesmobilecigars.com
SUMMARY:Lansing Taco and Tequilla Fest
DESCRIPTION:Lansing Taco and Tequila Fest is an outdoor tequila festival hosted at (\, Lansing\, MI 48933). This festival will feature 100+ tequilas. Most of the list is tequila but there will be a few other options such as beer\, sangria and margaritas. In addition to the great beverage selection\, we will have food trucks\, live music\, vendors and more!
URL:https://greatlakesmobilecigars.com/event/lansing-taco-and-tequilla-fest/
LOCATION:Adado Riverfront Park\, 201 E Shiawassee St\, Lansing\, MI\, 48933
END:VEVENT
END:VCALENDAR