BEGIN:VCALENDAR
VERSION:2.0
PRODID:-//Great Lakes Mobile Cigars - ECPv6.15.17.1//NONSGML v1.0//EN
CALSCALE:GREGORIAN
METHOD:PUBLISH
X-ORIGINAL-URL:https://greatlakesmobilecigars.com
X-WR-CALDESC:Events for Great Lakes Mobile Cigars
REFRESH-INTERVAL;VALUE=DURATION:PT1H
X-Robots-Tag:noindex
X-PUBLISHED-TTL:PT1H
BEGIN:VTIMEZONE
TZID:America/Detroit
BEGIN:DAYLIGHT
TZOFFSETFROM:-0500
TZOFFSETTO:-0400
TZNAME:EDT
DTSTART:20240310T070000
END:DAYLIGHT
BEGIN:STANDARD
TZOFFSETFROM:-0400
TZOFFSETTO:-0500
TZNAME:EST
DTSTART:20241103T060000
END:STANDARD
BEGIN:DAYLIGHT
TZOFFSETFROM:-0500
TZOFFSETTO:-0400
TZNAME:EDT
DTSTART:20250309T070000
END:DAYLIGHT
BEGIN:STANDARD
TZOFFSETFROM:-0400
TZOFFSETTO:-0500
TZNAME:EST
DTSTART:20251102T060000
END:STANDARD
BEGIN:DAYLIGHT
TZOFFSETFROM:-0500
TZOFFSETTO:-0400
TZNAME:EDT
DTSTART:20260308T070000
END:DAYLIGHT
BEGIN:STANDARD
TZOFFSETFROM:-0400
TZOFFSETTO:-0500
TZNAME:EST
DTSTART:20261101T060000
END:STANDARD
END:VTIMEZONE
BEGIN:VEVENT
DTSTART;VALUE=DATE:20250606
DTEND;VALUE=DATE:20250608
DTSTAMP:20260419T141805
CREATED:20250522T181817Z
LAST-MODIFIED:20260205T193717Z
UID:450-1749168000-1749340799@greatlakesmobilecigars.com
SUMMARY:Swiggin' Pig Fest
DESCRIPTION:Swiggin’ Pig presented by Meijer will kick-off summer in Downtown Wyandotte. The weekend will have something for everyone including live music from Metro Detroit’s most popular bands\, ice cold craft beers\, shows\, Crafters Market\, Whiskey Tasting and BBQ pitmasters will serve up some of the area’s finest barbecue offering finger lickin’ good meals for purchase at each of the food trucks.  and spirit sampling…i
URL:https://greatlakesmobilecigars.com/event/swiggin-pig-fest/
LOCATION:Swiggin’ Pig Fest\, Downtown\, Wyandotte\, MI\, 48192
ATTACH;FMTTYPE=image/png:https://greatlakesmobilecigars.com/wp-content/uploads/2025/05/logo-swiggin-pig-e1747937879893.png
ORGANIZER;CN="Great Lakes Mobile Cigars":MAILTO:contact@greatlakesmobilecigars.com
END:VEVENT
BEGIN:VEVENT
DTSTART;TZID=America/Detroit:20250614T160000
DTEND;TZID=America/Detroit:20250614T190000
DTSTAMP:20260419T141805
CREATED:20250529T170849Z
LAST-MODIFIED:20250529T170849Z
UID:671-1749916800-1749927600@greatlakesmobilecigars.com
SUMMARY:Rod Hill Cigar Trailer Party
DESCRIPTION:Private cigar Party
URL:https://greatlakesmobilecigars.com/event/rod-hill-cigar-trailer-party/
LOCATION:MI
END:VEVENT
BEGIN:VEVENT
DTSTART;TZID=America/Detroit:20250616T073000
DTEND;TZID=America/Detroit:20250616T170000
DTSTAMP:20260419T141805
CREATED:20250609T165945Z
LAST-MODIFIED:20250609T170148Z
UID:1083-1750059000-1750093200@greatlakesmobilecigars.com
SUMMARY:Sweeney Insurance Solutions Golf Outing
DESCRIPTION:Business Golf Outing
URL:https://greatlakesmobilecigars.com/event/sweeney-insurance-solutions-golf-outing/
LOCATION:Lapeer Country Club\, 3786 Hunt rd\, Lapeer\, MI\, 48446\, United States
END:VEVENT
BEGIN:VEVENT
DTSTART;TZID=America/Detroit:20250617T200000
DTEND;TZID=America/Detroit:20250617T220000
DTSTAMP:20260419T141805
CREATED:20250611T165245Z
LAST-MODIFIED:20250611T165245Z
UID:1132-1750190400-1750197600@greatlakesmobilecigars.com
SUMMARY:Cigar Dudes Podcast with guest GLMCigars
DESCRIPTION:Great Lakes Mobile Cigars guest Cigar Dudes Podcast
URL:https://greatlakesmobilecigars.com/event/cigar-dudes-podcast-with-guest-glmcigars/
LOCATION:MI
END:VEVENT
BEGIN:VEVENT
DTSTART;TZID=America/Detroit:20250621T110000
DTEND;TZID=America/Detroit:20250621T180000
DTSTAMP:20260419T141805
CREATED:20250524T124323Z
LAST-MODIFIED:20250609T160833Z
UID:520-1750503600-1750528800@greatlakesmobilecigars.com
SUMMARY:Michigan Food Truck and Beer Festival
DESCRIPTION:FTFA is bringing the ultimate food truck and craft beverage experience to Michigan for the 1st year!Featuring some of the area’s most popular food trucks dishing out fan favorites such as Tacos\, tortas\, quesadillas\, quesabirrias & burritos and more!Offering dozens of regional and national brews
URL:https://greatlakesmobilecigars.com/event/michigan-food-truck-and-beer-festival/
LOCATION:Michigan Food Truck and Beer Festival\, 317 S Dexter St\, Ionia\, Michigan\, 48846
ATTACH;FMTTYPE=image/jpeg:https://greatlakesmobilecigars.com/wp-content/uploads/2025/05/38beb091-c380-4456-a987-6e2a9359015e-1_all_26825.jpg
ORGANIZER;CN="Great Lakes Mobile Cigars":MAILTO:contact@greatlakesmobilecigars.com
END:VEVENT
BEGIN:VEVENT
DTSTART;TZID=America/Detroit:20250630T200000
DTEND;TZID=America/Detroit:20250630T220000
DTSTAMP:20260419T141805
CREATED:20250529T205500Z
LAST-MODIFIED:20250529T205500Z
UID:751-1751313600-1751320800@greatlakesmobilecigars.com
SUMMARY:Bikes Babes & Booze Podcast
DESCRIPTION:Great Lakes Mobile Cigars will be on Bikes babes and Booze Podcast with Jim and Scott
URL:https://greatlakesmobilecigars.com/event/bikes-babes-booze-podcast/
LOCATION:MI
END:VEVENT
END:VCALENDAR