BEGIN:VCALENDAR
VERSION:2.0
PRODID:-//Great Lakes Mobile Cigars - ECPv6.15.17.1//NONSGML v1.0//EN
CALSCALE:GREGORIAN
METHOD:PUBLISH
X-WR-CALNAME:Great Lakes Mobile Cigars
X-ORIGINAL-URL:https://greatlakesmobilecigars.com
X-WR-CALDESC:Events for Great Lakes Mobile Cigars
REFRESH-INTERVAL;VALUE=DURATION:PT1H
X-Robots-Tag:noindex
X-PUBLISHED-TTL:PT1H
BEGIN:VTIMEZONE
TZID:America/Detroit
BEGIN:DAYLIGHT
TZOFFSETFROM:-0500
TZOFFSETTO:-0400
TZNAME:EDT
DTSTART:20240310T070000
END:DAYLIGHT
BEGIN:STANDARD
TZOFFSETFROM:-0400
TZOFFSETTO:-0500
TZNAME:EST
DTSTART:20241103T060000
END:STANDARD
BEGIN:DAYLIGHT
TZOFFSETFROM:-0500
TZOFFSETTO:-0400
TZNAME:EDT
DTSTART:20250309T070000
END:DAYLIGHT
BEGIN:STANDARD
TZOFFSETFROM:-0400
TZOFFSETTO:-0500
TZNAME:EST
DTSTART:20251102T060000
END:STANDARD
BEGIN:DAYLIGHT
TZOFFSETFROM:-0500
TZOFFSETTO:-0400
TZNAME:EDT
DTSTART:20260308T070000
END:DAYLIGHT
BEGIN:STANDARD
TZOFFSETFROM:-0400
TZOFFSETTO:-0500
TZNAME:EST
DTSTART:20261101T060000
END:STANDARD
END:VTIMEZONE
BEGIN:VEVENT
DTSTART;VALUE=DATE:20250710
DTEND;VALUE=DATE:20250713
DTSTAMP:20260419T115347
CREATED:20250524T125725Z
LAST-MODIFIED:20250524T125725Z
UID:527-1752105600-1752364799@greatlakesmobilecigars.com
SUMMARY:Blue Water Festival
DESCRIPTION:Familiar favorites such as Concerts\, Street Fair\, OT’s Family Night\, and Mannequins Making a Difference join us for the festivities\, all being kicked off by the Rotary International Day Parade on Wednesday\, July 9 in Downtown Port Huron.
URL:https://greatlakesmobilecigars.com/event/blue-water-festival/
LOCATION:Blue Water Fest\, Downtown\, Port Huron\, Michigan
ATTACH;FMTTYPE=image/png:https://greatlakesmobilecigars.com/wp-content/uploads/2025/05/SmallLogo2021.png
END:VEVENT
BEGIN:VEVENT
DTSTART;TZID=America/Detroit:20250716T180000
DTEND;TZID=America/Detroit:20250716T210000
DTSTAMP:20260419T115347
CREATED:20250715T144344Z
LAST-MODIFIED:20250715T144344Z
UID:1539-1752688800-1752699600@greatlakesmobilecigars.com
SUMMARY:Saginaw Country Club Men's Invitational
DESCRIPTION:Private Cigar Trailer Event \n 
URL:https://greatlakesmobilecigars.com/event/saginaw-country-club-mens-invitational/
LOCATION:MI
END:VEVENT
BEGIN:VEVENT
DTSTART;TZID=America/Detroit:20250721T170000
DTEND;TZID=America/Detroit:20250721T210000
DTSTAMP:20260419T115347
CREATED:20250715T150420Z
LAST-MODIFIED:20250715T150420Z
UID:1541-1753117200-1753131600@greatlakesmobilecigars.com
SUMMARY:Mayor Duggan Re-Election Fundraiser
DESCRIPTION:Great Lakes Mobile Cigar Trailer will be supporting Don Reyes Cigars Company handing out cigars at Mayor Duggan Re-Election Fundraiser Campaign \n \n. \n 
URL:https://greatlakesmobilecigars.com/event/mayor-duggan-re-election-fundraiser/
LOCATION:MI
END:VEVENT
BEGIN:VEVENT
DTSTART;TZID=America/Detroit:20250725T110000
DTEND;TZID=America/Detroit:20250726T230000
DTSTAMP:20260419T115347
CREATED:20250529T175241Z
LAST-MODIFIED:20250529T175241Z
UID:684-1753441200-1753570800@greatlakesmobilecigars.com
SUMMARY:Labide Rib Fest
DESCRIPTION:Bay City’s charity rib cook-off is back! Join in the fun of the Labadie Rib Fest July 24-27\, 2025 in beautiful Veteran’s Memorial Park. Get ready to enjoy 4 nights of headline concerts starring national bands\, the tastiest ribs from Michigan to Virginia to Texas\, and entertainment and activities for the whole family!
URL:https://greatlakesmobilecigars.com/event/labide-rib-fest/
LOCATION:Veterans Memorial Park\, 215 John F Kennedy Dr\, Bay City Michigan\, MI\, 48768\, United States
END:VEVENT
END:VCALENDAR