BEGIN:VCALENDAR
VERSION:2.0
PRODID:-//Great Lakes Mobile Cigars - ECPv6.15.17.1//NONSGML v1.0//EN
CALSCALE:GREGORIAN
METHOD:PUBLISH
X-WR-CALNAME:Great Lakes Mobile Cigars
X-ORIGINAL-URL:https://greatlakesmobilecigars.com
X-WR-CALDESC:Events for Great Lakes Mobile Cigars
REFRESH-INTERVAL;VALUE=DURATION:PT1H
X-Robots-Tag:noindex
X-PUBLISHED-TTL:PT1H
BEGIN:VTIMEZONE
TZID:America/Detroit
BEGIN:DAYLIGHT
TZOFFSETFROM:-0500
TZOFFSETTO:-0400
TZNAME:EDT
DTSTART:20240310T070000
END:DAYLIGHT
BEGIN:STANDARD
TZOFFSETFROM:-0400
TZOFFSETTO:-0500
TZNAME:EST
DTSTART:20241103T060000
END:STANDARD
BEGIN:DAYLIGHT
TZOFFSETFROM:-0500
TZOFFSETTO:-0400
TZNAME:EDT
DTSTART:20250309T070000
END:DAYLIGHT
BEGIN:STANDARD
TZOFFSETFROM:-0400
TZOFFSETTO:-0500
TZNAME:EST
DTSTART:20251102T060000
END:STANDARD
BEGIN:DAYLIGHT
TZOFFSETFROM:-0500
TZOFFSETTO:-0400
TZNAME:EDT
DTSTART:20260308T070000
END:DAYLIGHT
BEGIN:STANDARD
TZOFFSETFROM:-0400
TZOFFSETTO:-0500
TZNAME:EST
DTSTART:20261101T060000
END:STANDARD
END:VTIMEZONE
BEGIN:VEVENT
DTSTART;TZID=America/Detroit:20250823T160000
DTEND;TZID=America/Detroit:20250823T210000
DTSTAMP:20260419T093202
CREATED:20250529T182540Z
LAST-MODIFIED:20250529T182540Z
UID:704-1755964800-1755982800@greatlakesmobilecigars.com
SUMMARY:Battle Creek Backyard Burgers and Brews Fest
DESCRIPTION:Your taste buds will thank you the fourth Saturday in August by attending the Battle Creek Area Chamber of Commerce’s Backyard Burgers & Brewfest at Festival Market Square in downtown Battle Creek. The Annual Backyard Burgers & Brewfest features local food and brews\, burger competition\, live music\, backyard-style games including a cornhole tournament and MORE! Hosted annually with an expected 5\,000 in attendance.
URL:https://greatlakesmobilecigars.com/event/battle-creek-backyard-burgers-and-brews-fest/
LOCATION:Festival Market Square\, 25 McCamly St S\,\, Battle Creek\, MI\, 49017\, United States
END:VEVENT
BEGIN:VEVENT
DTSTART;TZID=America/Detroit:20250830T110000
DTEND;TZID=America/Detroit:20250830T170000
DTSTAMP:20260419T093202
CREATED:20250826T183906Z
LAST-MODIFIED:20250826T184133Z
UID:1624-1756551600-1756573200@greatlakesmobilecigars.com
SUMMARY:Lavish Bike Bash
DESCRIPTION:This is the end of summer bike bash presented hosted by Arsenal Harley Davidson in Waterford….  Great Lakes Mobile Cigars will have their custom trailer and selling cigars to everyone who comes to the dealership. This is a three-day event going on with a sound competition\, bike show\, food and other vendors\, music and much more…
URL:https://greatlakesmobilecigars.com/event/lavish-bike-bash/
LOCATION:Arsenal Harley Davidson\, 4405 Highland Rd\, Waterford\, michigan\, 48328
END:VEVENT
END:VCALENDAR