BEGIN:VCALENDAR
VERSION:2.0
PRODID:-//Great Lakes Mobile Cigars - ECPv6.15.17.1//NONSGML v1.0//EN
CALSCALE:GREGORIAN
METHOD:PUBLISH
X-ORIGINAL-URL:https://greatlakesmobilecigars.com
X-WR-CALDESC:Events for Great Lakes Mobile Cigars
REFRESH-INTERVAL;VALUE=DURATION:PT1H
X-Robots-Tag:noindex
X-PUBLISHED-TTL:PT1H
BEGIN:VTIMEZONE
TZID:America/Detroit
BEGIN:DAYLIGHT
TZOFFSETFROM:-0500
TZOFFSETTO:-0400
TZNAME:EDT
DTSTART:20240310T070000
END:DAYLIGHT
BEGIN:STANDARD
TZOFFSETFROM:-0400
TZOFFSETTO:-0500
TZNAME:EST
DTSTART:20241103T060000
END:STANDARD
BEGIN:DAYLIGHT
TZOFFSETFROM:-0500
TZOFFSETTO:-0400
TZNAME:EDT
DTSTART:20250309T070000
END:DAYLIGHT
BEGIN:STANDARD
TZOFFSETFROM:-0400
TZOFFSETTO:-0500
TZNAME:EST
DTSTART:20251102T060000
END:STANDARD
BEGIN:DAYLIGHT
TZOFFSETFROM:-0500
TZOFFSETTO:-0400
TZNAME:EDT
DTSTART:20260308T070000
END:DAYLIGHT
BEGIN:STANDARD
TZOFFSETFROM:-0400
TZOFFSETTO:-0500
TZNAME:EST
DTSTART:20261101T060000
END:STANDARD
END:VTIMEZONE
BEGIN:VEVENT
DTSTART;VALUE=DATE:20250905
DTEND;VALUE=DATE:20250907
DTSTAMP:20260419T081001
CREATED:20250529T183808Z
LAST-MODIFIED:20250529T183808Z
UID:711-1757030400-1757203199@greatlakesmobilecigars.com
SUMMARY:Brighton Smoking Rock-N- Blues Festival
DESCRIPTION:Award-winning barbecue will be smoking up Downtown Brighton\, serving up ribs\, pulled pork\, beef brisket\, pork tenderloin\, sweet treats\, specialty mac n’ cheese\, and much more.  Come and check out some amazing vendors.
URL:https://greatlakesmobilecigars.com/event/brighton-smoking-rock-n-blues-festival/
LOCATION:Downtown Brighton\, 202 W Main St\,\, Brighton\, MI\, 48116\, United States
END:VEVENT
BEGIN:VEVENT
DTSTART;TZID=America/Detroit:20250913T180000
DTEND;TZID=America/Detroit:20250913T220000
DTSTAMP:20260419T081001
CREATED:20250529T184927Z
LAST-MODIFIED:20250531T012002Z
UID:714-1757786400-1757800800@greatlakesmobilecigars.com
SUMMARY:GR Margarita Fest
DESCRIPTION:Welcome to the Margarita Sampling Festival\, an exhilarating celebration of the beloved tequila-based cocktail! Prepare to embark on a tantalizing journey through a kaleidoscope of flavors\, as you indulge in the world’s finest Margaritas\, expertly crafted by seasoned mixologists.  From classic renditions that pay homage to the cocktail’s origins to innovative twists that push the boundaries of mixology\, every Margarita lover is sure to find their perfect sip.
URL:https://greatlakesmobilecigars.com/event/gr-margarita-fest/
LOCATION:Devos Place\, 303 Monroe Ave NW\, Grand Rapis\, MI\, 49503\, United States
END:VEVENT
END:VCALENDAR