BEGIN:VCALENDAR
VERSION:2.0
PRODID:-//Great Lakes Mobile Cigars - ECPv6.15.17.1//NONSGML v1.0//EN
CALSCALE:GREGORIAN
METHOD:PUBLISH
X-WR-CALNAME:Great Lakes Mobile Cigars
X-ORIGINAL-URL:https://greatlakesmobilecigars.com
X-WR-CALDESC:Events for Great Lakes Mobile Cigars
REFRESH-INTERVAL;VALUE=DURATION:PT1H
X-Robots-Tag:noindex
X-PUBLISHED-TTL:PT1H
BEGIN:VTIMEZONE
TZID:America/Detroit
BEGIN:DAYLIGHT
TZOFFSETFROM:-0500
TZOFFSETTO:-0400
TZNAME:EDT
DTSTART:20250309T070000
END:DAYLIGHT
BEGIN:STANDARD
TZOFFSETFROM:-0400
TZOFFSETTO:-0500
TZNAME:EST
DTSTART:20251102T060000
END:STANDARD
BEGIN:DAYLIGHT
TZOFFSETFROM:-0500
TZOFFSETTO:-0400
TZNAME:EDT
DTSTART:20260308T070000
END:DAYLIGHT
BEGIN:STANDARD
TZOFFSETFROM:-0400
TZOFFSETTO:-0500
TZNAME:EST
DTSTART:20261101T060000
END:STANDARD
BEGIN:DAYLIGHT
TZOFFSETFROM:-0500
TZOFFSETTO:-0400
TZNAME:EDT
DTSTART:20270314T070000
END:DAYLIGHT
BEGIN:STANDARD
TZOFFSETFROM:-0400
TZOFFSETTO:-0500
TZNAME:EST
DTSTART:20271107T060000
END:STANDARD
END:VTIMEZONE
BEGIN:VEVENT
DTSTART;TZID=America/Detroit:20260808T180000
DTEND;TZID=America/Detroit:20260808T220000
DTSTAMP:20260420T032021
CREATED:20250529T175941Z
LAST-MODIFIED:20260205T192921Z
UID:692-1786212000-1786226400@greatlakesmobilecigars.com
SUMMARY:RO Margarita Fest
DESCRIPTION:The Margarita Sampling Festival invites cocktail enthusiasts\, tequila connoisseurs\, and those seeking a delightful culinary adventure. The event showcases a dazzling array of Margarita variations\, showcasing the creativity and artistry of skilled bartenders. From classic renditions that pay homage to the cocktail’s origins to innovative twists that push the boundaries of mixology\, every Margarita lover is sure to find their perfect sip. \n \n 
URL:https://greatlakesmobilecigars.com/event/ro-margarita-fest/
LOCATION:RO Farmers Market\, 316 E. 11 Mile Rd.\, Royal Oak\, MI\, 48067\, United States
ORGANIZER;CN="Real Detroit Events":MAILTO:jb@realdetroitevents.com
END:VEVENT
BEGIN:VEVENT
DTSTART;TZID=America/Detroit:20260815T180000
DTEND;TZID=America/Detroit:20260815T220000
DTSTAMP:20260420T032021
CREATED:20250531T011843Z
LAST-MODIFIED:20260205T192724Z
UID:698-1786816800-1786831200@greatlakesmobilecigars.com
SUMMARY:Wyandotte Wine Crawl
DESCRIPTION:Gather along the Detroit Riverfront in Downtown Wyandotte to taste a variety of wine and seltzer while enjoying live music\, indulging in delicious food\, playing fun games and shopping vendor booths. Guests will be able to sample a variety of wines and seltzers\, including wines from Michigan based wineries and more. Sampling packages include a commemorative wine glass and 12 sampling tickets.
URL:https://greatlakesmobilecigars.com/event/wyandotte-wine-crawl/
LOCATION:Downtown Wyandotte\, 2903 Biddle St\, Wyandotte\, MI\, 48192\, United States
END:VEVENT
END:VCALENDAR